BEGIN:VCALENDAR
VERSION:2.0
PRODID:-//Consejo Andaluz de Cámaras de Comercio - ECPv6.15.20//NONSGML v1.0//EN
CALSCALE:GREGORIAN
METHOD:PUBLISH
X-WR-CALNAME:Consejo Andaluz de Cámaras de Comercio
X-ORIGINAL-URL:https://www.camarasandalucia.com
X-WR-CALDESC:Eventos para Consejo Andaluz de Cámaras de Comercio
REFRESH-INTERVAL;VALUE=DURATION:PT1H
X-Robots-Tag:noindex
X-PUBLISHED-TTL:PT1H
BEGIN:VTIMEZONE
TZID:Europe/Madrid
BEGIN:DAYLIGHT
TZOFFSETFROM:+0100
TZOFFSETTO:+0200
TZNAME:CEST
DTSTART:20250330T010000
END:DAYLIGHT
BEGIN:STANDARD
TZOFFSETFROM:+0200
TZOFFSETTO:+0100
TZNAME:CET
DTSTART:20251026T010000
END:STANDARD
BEGIN:DAYLIGHT
TZOFFSETFROM:+0100
TZOFFSETTO:+0200
TZNAME:CEST
DTSTART:20260329T010000
END:DAYLIGHT
BEGIN:STANDARD
TZOFFSETFROM:+0200
TZOFFSETTO:+0100
TZNAME:CET
DTSTART:20261025T010000
END:STANDARD
BEGIN:DAYLIGHT
TZOFFSETFROM:+0100
TZOFFSETTO:+0200
TZNAME:CEST
DTSTART:20270328T010000
END:DAYLIGHT
BEGIN:STANDARD
TZOFFSETFROM:+0200
TZOFFSETTO:+0100
TZNAME:CET
DTSTART:20271031T010000
END:STANDARD
END:VTIMEZONE
BEGIN:VEVENT
DTSTART;TZID=Europe/Madrid:20260128T113000
DTEND;TZID=Europe/Madrid:20260128T133000
DTSTAMP:20260421T185616
CREATED:20260108T115445Z
LAST-MODIFIED:20260115T092617Z
UID:281023-1769599800-1769607000@www.camarasandalucia.com
SUMMARY:Jornada "Emprender en los pueblos: Talento joven como motor del cambio rural"
DESCRIPTION:Andalucía se enfrenta en la actualidad a importantes retos vinculados al desafío demográfico\, especialmente en el medio rural\, donde la despoblación\, el envejecimiento de la población y la pérdida de oportunidades económicas amenazan la cohesión territorial y social. En este contexto\, el emprendimiento juvenil se presenta como una palanca estratégica para dinamizar los territorios rurales\, generar empleo\, fijar población y promover modelos de desarrollo más sostenibles e innovadores. \nLos entornos rurales andaluces ofrecen hoy oportunidades reales en ámbitos como la digitalización\, la economía verde\, el turismo sostenible\, la agroindustria\, la cultura o los nuevos modelos de negocio ligados a la innovación social y tecnológica. Sin embargo\, es necesario acercar estas oportunidades a la juventud\, especialmente a estudiantes universitarios\ny jóvenes emprendedores\, conectando talento\, recursos\, experiencias reales y políticas públicas de apoyo. \nLa jornada “Emprender en los pueblos: talento joven como motor del cambio rural” nace con el objetivo de cambiar la percepción del medio rural\, visibilizar referentes y mostrar que\nemprender en los pueblos no supone una renuncia\, sino una apuesta por el futuro\, la innovación y la calidad de vida.
URL:https://www.camarasandalucia.com/jornada-emprender-en-los-pueblos/
LOCATION:Facultad de Ciencias Económicas y Empresariales de Sevilla\, Av. de Ramón y Cajal\, 1\, planta sótano\, Sevilla\, 41018\, Spain
CATEGORIES:Institucional
ATTACH;FMTTYPE=image/jpeg:https://www.camarasandalucia.com/wp-content/uploads/2026/01/CabeceraNewsletter-EmprendimientoRural-conlogo-v4.jpg
END:VEVENT
END:VCALENDAR