BEGIN:VCALENDAR
VERSION:2.0
PRODID:-//Consejo Andaluz de Cámaras de Comercio - ECPv6.15.20//NONSGML v1.0//EN
CALSCALE:GREGORIAN
METHOD:PUBLISH
X-ORIGINAL-URL:https://www.camarasandalucia.com
X-WR-CALDESC:Eventos para Consejo Andaluz de Cámaras de Comercio
REFRESH-INTERVAL;VALUE=DURATION:PT1H
X-Robots-Tag:noindex
X-PUBLISHED-TTL:PT1H
BEGIN:VTIMEZONE
TZID:Europe/Madrid
BEGIN:DAYLIGHT
TZOFFSETFROM:+0100
TZOFFSETTO:+0200
TZNAME:CEST
DTSTART:20250330T010000
END:DAYLIGHT
BEGIN:STANDARD
TZOFFSETFROM:+0200
TZOFFSETTO:+0100
TZNAME:CET
DTSTART:20251026T010000
END:STANDARD
BEGIN:DAYLIGHT
TZOFFSETFROM:+0100
TZOFFSETTO:+0200
TZNAME:CEST
DTSTART:20260329T010000
END:DAYLIGHT
BEGIN:STANDARD
TZOFFSETFROM:+0200
TZOFFSETTO:+0100
TZNAME:CET
DTSTART:20261025T010000
END:STANDARD
BEGIN:DAYLIGHT
TZOFFSETFROM:+0100
TZOFFSETTO:+0200
TZNAME:CEST
DTSTART:20270328T010000
END:DAYLIGHT
BEGIN:STANDARD
TZOFFSETFROM:+0200
TZOFFSETTO:+0100
TZNAME:CET
DTSTART:20271031T010000
END:STANDARD
END:VTIMEZONE
BEGIN:VEVENT
DTSTART;TZID=Europe/Madrid:20260211T100000
DTEND;TZID=Europe/Madrid:20260211T133000
DTSTAMP:20260421T014735
CREATED:20260128T110552Z
LAST-MODIFIED:20260128T130738Z
UID:281370-1770804000-1770816600@www.camarasandalucia.com
SUMMARY:Foro Innovación del futuro – Sector Agroalimentario
DESCRIPTION:Miércoles\, día 11 de marzo\, a las 10:00 horas en formato online. \nLa iniciativa «Innovación del futuro – Sector Agroalimentario» se enmarca en el Programa Pyme Innova de Cámara de España y surge con el objetivo de mejorar la competitividad de las pymes y profesionales mediante la adopción de metodología Coolhuting. \nEl programa consta de dos partes\, un foro donde expertos en la materia y empresa de éxito nos hablarán sobre los beneficios de implementar el Coolhunting en vuestra estrategia. \nA continuación\, se realizará un taller practico para empresas\, donde podréis conocer como implementar un sistema de Coolhunting y disponer de vuestro propio estudio de tendencias. \nEn un mundo en constante transformación\, las empresas que detectan y se adaptan a las tendencias emergentes son las que lideran el mercado. \nAprovecha esta oportunidad para: \n✅ Identificar las tendencias emergentes en los sectores\, tecnología\, consumo y modelos de negocio.\n✅ Aplicar el coolhunting y la prospectiva estratégica para tomar mejores decisiones empresariales.\n✅ Conocer casos reales de innovación en empresas de referencia.\n✅ Participar en un taller práctico para descifrar tendencias con herramientas digitales avanzadas. \n¡Te esperamos!
URL:https://www.camarasandalucia.com/innovacion-futuro-sector-agroalimentario/
LOCATION:Online a través de ZOOM
CATEGORIES:Agroindustria,Innovación,PymeInnova
ATTACH;FMTTYPE=image/jpeg:https://www.camarasandalucia.com/wp-content/uploads/2026/01/1200x628-Foro-InnovacionFuturoAgroalimentario.jpg
END:VEVENT
END:VCALENDAR