BEGIN:VCALENDAR
VERSION:2.0
PRODID:-//Consejo Andaluz de Cámaras de Comercio - ECPv6.15.20//NONSGML v1.0//EN
CALSCALE:GREGORIAN
METHOD:PUBLISH
X-ORIGINAL-URL:https://www.camarasandalucia.com
X-WR-CALDESC:Eventos para Consejo Andaluz de Cámaras de Comercio
REFRESH-INTERVAL;VALUE=DURATION:PT1H
X-Robots-Tag:noindex
X-PUBLISHED-TTL:PT1H
BEGIN:VTIMEZONE
TZID:Europe/Madrid
BEGIN:DAYLIGHT
TZOFFSETFROM:+0100
TZOFFSETTO:+0200
TZNAME:CEST
DTSTART:20250330T010000
END:DAYLIGHT
BEGIN:STANDARD
TZOFFSETFROM:+0200
TZOFFSETTO:+0100
TZNAME:CET
DTSTART:20251026T010000
END:STANDARD
BEGIN:DAYLIGHT
TZOFFSETFROM:+0100
TZOFFSETTO:+0200
TZNAME:CEST
DTSTART:20260329T010000
END:DAYLIGHT
BEGIN:STANDARD
TZOFFSETFROM:+0200
TZOFFSETTO:+0100
TZNAME:CET
DTSTART:20261025T010000
END:STANDARD
BEGIN:DAYLIGHT
TZOFFSETFROM:+0100
TZOFFSETTO:+0200
TZNAME:CEST
DTSTART:20270328T010000
END:DAYLIGHT
BEGIN:STANDARD
TZOFFSETFROM:+0200
TZOFFSETTO:+0100
TZNAME:CET
DTSTART:20271031T010000
END:STANDARD
END:VTIMEZONE
BEGIN:VEVENT
DTSTART;TZID=Europe/Madrid:20260507T100000
DTEND;TZID=Europe/Madrid:20260507T113000
DTSTAMP:20260421T151149
CREATED:20260420T060041Z
LAST-MODIFIED:20260421T072616Z
UID:283117-1778148000-1778153400@www.camarasandalucia.com
SUMMARY:Webinar "India y la Unión Europea: Activos intangibles\, negocio y protección del valor empresarial Fecha"
DESCRIPTION:Descripción\n			\n				\n				\n				\n				\n				Los activos intangibles son una parte cada vez más decisiva de la competitividad empresarial\, tanto en el mercado nacional como en la expansión internacional. \nMarca\, tecnología\, diseños\, conocimiento\, reputación o posicionamiento comercial forman parte del valor diferencial de muchas empresas. Saber identificarlos\, gestionarlos y protegerlos adecuadamente no solo ayuda a prevenir riesgos\, sino también a reforzar la posición competitiva de la empresa y a crecer con mayor seguridad\, especialmente al abordar mercados de interés estratégico como India. \nEn este webinar se ofrecerá una visión práctica sobre los principales aspectos que las pymes deben tener en cuenta para proteger sus activos intangibles al operar en India\, incorporando además una referencia al actual contexto de negocio entre la Unión Europea e India y a algunas de las oportunidades más relevantes que puede ofrecer este mercado. \nUna sesión útil para empresas andaluzas interesadas tanto en reforzar la protección de sus activos estratégicos como en aproximarse al mercado indio con una visión más clara\, más segura y mejor orientada desde Europa. \n  \n			\n			\n				\n				\n				\n				\n			\n				\n				\n			\n				\n				\n				\n				\n				\n				\n				\n				\n				\n				\n				\n				\n				\n				\n				\n				\n				\n				 Inscripción\n			\n				\n				\n				\n				\n				📅 7 de mayo de 2026\, 10.00h 📍 Online a través de ZOOM \n			\n				\n				\n				\n				\n				¡Reserva tu plaza ahora y asegúrate de participar en este webinar gratuito!\n			\n				👉 Regístrate ahora\n			\n			\n				\n				\n				\n				\n			\n				\n				\n			\n				\n				\n				\n				\n				\n				\n				\n				\n				\n				\n				\n				\n				\n				\n				\n				\n				\n				 Programa\n			\n			\n				\n				\n				\n				\n			\n				\n				\n				\n				\n				\n				\n				\n				\n				\n				\n				 10:00h. Bienvenida institucional y presentación de servicios Enterprise Europe Network Andalucía.\n			\n				\n				\n				\n				\n				 Mercedes Léon Lozano – Directora Gerente del Consejo Andaluz de Cámaras de Comercio\, Industria\, Servicios y Navegación.\n			\n				\n				\n				\n				\n				 10:10h. «India y la Unión Europea: activos intangibles y protección del valor empresarial».\n			\n				\n				\n				\n				\n				 Giovanna Girardi – IP Expert y Training Manager del Latin America IP SME Helpdesk.\n			\n				\n				\n				\n				\n				 11:15h. Preguntas.\n			\n			\n				\n				\n				\n				\n			\n				\n				\n			\n				\n				\n				\n				\n				\n				\n				\n				\n				\n				\n				\n				\n				\n				\n				\n				\n				\n				 Intervienen\n			\n			\n				\n				\n				\n				\n			\n				\n				\n				\n				\n				\n				\n				\n				\n				\n				\n				\n				\n				\n					 \n                                    \n                                    \n                                        \n                                        \n                                            \n                                        \n                                        \n                                    \n                                \n                                    \n                                        \n                                            Mercedes Léon Lozano\n                                            \n                                             Directora Gerente del Consejo Andaluz de Cámaras de Comercio\, Industria\, Servicios y Navegación\n                                        \n                                        \n                                    \n                                \n				\n			\n			\n				\n				\n				\n				\n				\n				\n				\n				\n				\n				\n				\n				\n					 \n                                    \n                                    \n                                        \n                                        \n                                            \n                                        \n                                        \n                                    \n                                \n                                    \n                                        \n                                            Giovanna Girardi\n                                            IPExpert y Training Manager del Latin America IP SME Helpdesk\n                                            \n                                        \n                                        \n                                    \n                                \n				\n			\n			\n				\n				\n				\n				\n				\n			\n				\n				\n				\n				\n			\n				\n				\n			\n				\n				\n				\n				\n				\n				\n				\n				\n				\n				\n				\n				\n				\n			\n				\n				\n				\n				\n			\n				\n				\n				\n				\n				\n				\n				Inscripciones\n			\n			\n				\n				\n				\n				\n			\n				\n				\n				\n				\n				\n				\n			\n				\n				\n				\n				\n			\n				\n				\n			\n				\n				\n				\n				\n				\n				\n				\n				\n				\n				\n				\n				\n				\n				\n				\n				\n				\n				 Grabación y Materiales\n			\n			\n				\n				\n				\n				\n			\n				\n				\n				\n				\n				\n				\n				Presentación
URL:https://www.camarasandalucia.com/event/webinar-indiaue-activosintangibles/
LOCATION:Online a través de ZOOM
CATEGORIES:Red IEA
ATTACH;FMTTYPE=image/jpeg:https://www.camarasandalucia.com/wp-content/uploads/2026/04/1200x630px-BannerCabeceraIndiaUEActivosIntangiblesv2.jpg
END:VEVENT
END:VCALENDAR