BEGIN:VCALENDAR
VERSION:2.0
PRODID:-//Consejo Andaluz de Cámaras de Comercio - ECPv6.15.20//NONSGML v1.0//EN
CALSCALE:GREGORIAN
METHOD:PUBLISH
X-WR-CALNAME:Consejo Andaluz de Cámaras de Comercio
X-ORIGINAL-URL:https://www.camarasandalucia.com
X-WR-CALDESC:Eventos para Consejo Andaluz de Cámaras de Comercio
REFRESH-INTERVAL;VALUE=DURATION:PT1H
X-Robots-Tag:noindex
X-PUBLISHED-TTL:PT1H
BEGIN:VTIMEZONE
TZID:Europe/Madrid
BEGIN:DAYLIGHT
TZOFFSETFROM:+0100
TZOFFSETTO:+0200
TZNAME:CEST
DTSTART:20250330T010000
END:DAYLIGHT
BEGIN:STANDARD
TZOFFSETFROM:+0200
TZOFFSETTO:+0100
TZNAME:CET
DTSTART:20251026T010000
END:STANDARD
BEGIN:DAYLIGHT
TZOFFSETFROM:+0100
TZOFFSETTO:+0200
TZNAME:CEST
DTSTART:20260329T010000
END:DAYLIGHT
BEGIN:STANDARD
TZOFFSETFROM:+0200
TZOFFSETTO:+0100
TZNAME:CET
DTSTART:20261025T010000
END:STANDARD
BEGIN:DAYLIGHT
TZOFFSETFROM:+0100
TZOFFSETTO:+0200
TZNAME:CEST
DTSTART:20270328T010000
END:DAYLIGHT
BEGIN:STANDARD
TZOFFSETFROM:+0200
TZOFFSETTO:+0100
TZNAME:CET
DTSTART:20271031T010000
END:STANDARD
END:VTIMEZONE
BEGIN:VEVENT
DTSTART;TZID=Europe/Madrid:20260326T103000
DTEND;TZID=Europe/Madrid:20260326T133000
DTSTAMP:20260424T144841
CREATED:20260316T074634Z
LAST-MODIFIED:20260316T132215Z
UID:282366-1774521000-1774531800@www.camarasandalucia.com
SUMMARY:Foro WOMENTECH LEAP Liderazgo e inversión para pymes
DESCRIPTION:El Consejo Andaluz de Cámaras de Comercio organiza el Foro WOMENTECH LEAP. Liderazgo e inversión para pymes.  Un encuentro dirigido a empresarias\, directivas y profesionales que quieran impulsar el crecimiento de sus empresas en la economía digital y conocer cómo preparar proyectos empresariales para atraer inversión\, financiación y oportunidades de crecimiento en un entorno cada vez más tecnológico. \nEnmarcado en el Programa Pyme Digital de Cámara de España y cofinanciado por el Fondo Europeo de Desarrollo Regional (FEDER)\, el encuentro reúne a referentes del ámbito tecnológico y empresarial para compartir estrategias de digitalización\, innovación disruptiva y preparación para procesos de capitalización. Además\, ofrecerá inspiración\, aprendizaje práctico y networking de alto valor. \nLas primeras 15 empresas inscritas recibirán un asesoramiento con un informe estratégico para mejorar su plan de capitalización y aumentar sus opciones de captar inversión.
URL:https://www.camarasandalucia.com/jornada-womentech-leap-liderazgo-e-inversion-para-pymes/#new_tab
LOCATION:Fundación MAS\, C. Torneo\, 67.\, Sevilla\, Sevilla\, 41002\, Spain
CATEGORIES:PymeDigital
ATTACH;FMTTYPE=image/jpeg:https://www.camarasandalucia.com/wp-content/uploads/2026/03/destcada-WomenTech-Leap.jpeg
END:VEVENT
END:VCALENDAR