BEGIN:VCALENDAR
VERSION:2.0
PRODID:-//Consejo Andaluz de Cámaras de Comercio - ECPv6.15.20//NONSGML v1.0//EN
CALSCALE:GREGORIAN
METHOD:PUBLISH
X-ORIGINAL-URL:https://www.camarasandalucia.com
X-WR-CALDESC:Eventos para Consejo Andaluz de Cámaras de Comercio
REFRESH-INTERVAL;VALUE=DURATION:PT1H
X-Robots-Tag:noindex
X-PUBLISHED-TTL:PT1H
BEGIN:VTIMEZONE
TZID:Europe/Madrid
BEGIN:DAYLIGHT
TZOFFSETFROM:+0100
TZOFFSETTO:+0200
TZNAME:CEST
DTSTART:20250330T010000
END:DAYLIGHT
BEGIN:STANDARD
TZOFFSETFROM:+0200
TZOFFSETTO:+0100
TZNAME:CET
DTSTART:20251026T010000
END:STANDARD
BEGIN:DAYLIGHT
TZOFFSETFROM:+0100
TZOFFSETTO:+0200
TZNAME:CEST
DTSTART:20260329T010000
END:DAYLIGHT
BEGIN:STANDARD
TZOFFSETFROM:+0200
TZOFFSETTO:+0100
TZNAME:CET
DTSTART:20261025T010000
END:STANDARD
BEGIN:DAYLIGHT
TZOFFSETFROM:+0100
TZOFFSETTO:+0200
TZNAME:CEST
DTSTART:20270328T010000
END:DAYLIGHT
BEGIN:STANDARD
TZOFFSETFROM:+0200
TZOFFSETTO:+0100
TZNAME:CET
DTSTART:20271031T010000
END:STANDARD
END:VTIMEZONE
BEGIN:VEVENT
DTSTART;TZID=Europe/Madrid:20260305T093000
DTEND;TZID=Europe/Madrid:20260305T120000
DTSTAMP:20260424T145354
CREATED:20260224T143901Z
LAST-MODIFIED:20260224T143901Z
UID:281805-1772703000-1772712000@www.camarasandalucia.com
SUMMARY:El liderazgo de la iA Ética - Valores y confianza para el futuro de la PYME
DESCRIPTION:Descubre las claves para liderar con Inteligencia Artificial en tu PYME. \nEl Consejo Andaluz de Cámaras de Comercio te invita al webinar gratuito “El liderazgo de la IA Ética: Valores y confianza para el futuro de la PYME”\, una oportunidad única para conocer cómo la Inteligencia Artificial puede transformar tu negocio\, ayudándote a destacar en un mercado cada vez más competitivo. \nEste webinar está diseñado para que las PYMES entiendan el valor de la IA y descubran cómo aplicarla para optimizar sus procesos\, innovar y destacar en su sector.
URL:https://www.camarasandalucia.com/el-liderazgo-de-la-ia-etica/#new_tab
LOCATION:Online a través de ZOOM
CATEGORIES:PymeDigital
ATTACH;FMTTYPE=image/webp:https://www.camarasandalucia.com/wp-content/uploads/2026/02/El-liderazgo-de-la-IA-Etica-2026.webp
END:VEVENT
END:VCALENDAR